



BEGIN:VCALENDAR
VERSION:2.0
PRODID:-//bibliothéâtre - ECPv6.15.12.2//NONSGML v1.0//EN
CALSCALE:GREGORIAN
METHOD:PUBLISH
X-ORIGINAL-URL:https://www.bibliotheatre.com
X-WR-CALDESC:Évènements pour bibliothéâtre
REFRESH-INTERVAL;VALUE=DURATION:PT1H
X-Robots-Tag:noindex
X-PUBLISHED-TTL:PT1H
BEGIN:VTIMEZONE
TZID:Europe/Helsinki
BEGIN:DAYLIGHT
TZOFFSETFROM:+0200
TZOFFSETTO:+0300
TZNAME:EEST
DTSTART:20250330T010000
END:DAYLIGHT
BEGIN:STANDARD
TZOFFSETFROM:+0300
TZOFFSETTO:+0200
TZNAME:EET
DTSTART:20251026T010000
END:STANDARD
BEGIN:DAYLIGHT
TZOFFSETFROM:+0200
TZOFFSETTO:+0300
TZNAME:EEST
DTSTART:20260329T010000
END:DAYLIGHT
BEGIN:STANDARD
TZOFFSETFROM:+0300
TZOFFSETTO:+0200
TZNAME:EET
DTSTART:20261025T010000
END:STANDARD
BEGIN:DAYLIGHT
TZOFFSETFROM:+0200
TZOFFSETTO:+0300
TZNAME:EEST
DTSTART:20270328T010000
END:DAYLIGHT
BEGIN:STANDARD
TZOFFSETFROM:+0300
TZOFFSETTO:+0200
TZNAME:EET
DTSTART:20271031T010000
END:STANDARD
END:VTIMEZONE
BEGIN:VEVENT
DTSTART;TZID=Europe/Helsinki:20260221T120000
DTEND;TZID=Europe/Helsinki:20260221T120000
DTSTAMP:20260421T200315
CREATED:20260225T184158Z
LAST-MODIFIED:20260225T184158Z
UID:10005466-1771675200-1771675200@www.bibliotheatre.com
SUMMARY:La famille Carambouille
DESCRIPTION:Pour la 2ème année consécutive\, les Bleggik jouent une pièce d’Eric Tessier
URL:https://www.bibliotheatre.com/spectacle/la-famille-carambouille-2/
LOCATION:Moréac\, Moréac\, 56500\, France
ATTACH;FMTTYPE=application/pdf:https://www.bibliotheatre.com/wp-content/uploads/ninja-forms/7/2026-Bleggik.pdf
GEO:47.9196148;-2.820037
END:VEVENT
END:VCALENDAR