



BEGIN:VCALENDAR
VERSION:2.0
PRODID:-//bibliothéâtre - ECPv6.15.12.2//NONSGML v1.0//EN
CALSCALE:GREGORIAN
METHOD:PUBLISH
X-ORIGINAL-URL:https://www.bibliotheatre.com
X-WR-CALDESC:Évènements pour bibliothéâtre
REFRESH-INTERVAL;VALUE=DURATION:PT1H
X-Robots-Tag:noindex
X-PUBLISHED-TTL:PT1H
BEGIN:VTIMEZONE
TZID:Europe/Helsinki
BEGIN:DAYLIGHT
TZOFFSETFROM:+0200
TZOFFSETTO:+0300
TZNAME:EEST
DTSTART:20240331T010000
END:DAYLIGHT
BEGIN:STANDARD
TZOFFSETFROM:+0300
TZOFFSETTO:+0200
TZNAME:EET
DTSTART:20241027T010000
END:STANDARD
BEGIN:DAYLIGHT
TZOFFSETFROM:+0200
TZOFFSETTO:+0300
TZNAME:EEST
DTSTART:20250330T010000
END:DAYLIGHT
BEGIN:STANDARD
TZOFFSETFROM:+0300
TZOFFSETTO:+0200
TZNAME:EET
DTSTART:20251026T010000
END:STANDARD
BEGIN:DAYLIGHT
TZOFFSETFROM:+0200
TZOFFSETTO:+0300
TZNAME:EEST
DTSTART:20260329T010000
END:DAYLIGHT
BEGIN:STANDARD
TZOFFSETFROM:+0300
TZOFFSETTO:+0200
TZNAME:EET
DTSTART:20261025T010000
END:STANDARD
END:VTIMEZONE
BEGIN:VEVENT
DTSTART;TZID=Europe/Helsinki:20250705T110000
DTEND;TZID=Europe/Helsinki:20250705T110000
DTSTAMP:20260426T061330
CREATED:20250505T095542Z
LAST-MODIFIED:20250505T095542Z
UID:10005423-1751713200-1751713200@www.bibliotheatre.com
SUMMARY:Preuve d’amour
DESCRIPTION:Maxime est psychanalyste et superstitieux. La veille de son mariage avec Mathilde\, il ne retrouve plus son porte-bonheur : une chevalière en or. Il soupçonne sa fiancée de la lui avoir volée\, elle qui a toujours “détesté ce grigri infâme”. Il refuse alors de se marier tant qu’elle ne lui aura pas rendu. Mais le précieux fétiche réapparaît bientôt de la façon la plus improbable… \nQuand Juliette\, l’insupportable soeur de Mathilde\, vient ajouter son grain de sel\, la situation devient explosive. Sans oublier un certain M. Morse\, Lacan et Saint-Antoine-de-Padoue\, qui n’ont pas fini de leur jouer des tours… Embarquez-vous dans une enquête hilarante entre Hitchcock et Woody Allen !\n——————————\nILS EN PARLENT !\n“Preuve d’amour est la pièce parfaite pour passer un bon moment.” FROGGY’S DELIGHT\n“Dans Preuve d’amour\, Charles-Henri Ménival nous propose sur un mode théâtral drôle et érudit une réflexion alerte sur le désir amoureux.” BLOG DE PHACO
URL:https://www.bibliotheatre.com/spectacle/preuve-damour-3/
LOCATION:Théâtre Notre Dame\, 13 Rue Collège d'Annecy\, Avignon\, 84000\, France
GEO:43.9458671;4.804918300000001
X-APPLE-STRUCTURED-LOCATION;VALUE=URI;X-ADDRESS=Théâtre Notre Dame 13 Rue Collège d'Annecy Avignon 84000 France;X-APPLE-RADIUS=500;X-TITLE=13 Rue Collège d'Annecy:geo:4.804918300000001,43.9458671
END:VEVENT
END:VCALENDAR